BEGIN:VCALENDAR
VERSION:2.0
PRODID:-//TD Lank 07 - ECPv4.6.8//NONSGML v1.0//EN
CALSCALE:GREGORIAN
METHOD:PUBLISH
X-WR-CALNAME:TD Lank 07
X-ORIGINAL-URL:https://td-lank07.de
X-WR-CALDESC:Events for TD Lank 07
BEGIN:VEVENT
DTSTART;TZID=UTC+1:20220903T173000
DTEND;TZID=UTC+1:20220903T193000
DTSTAMP:20260420T232209
CREATED:20220720T082638Z
LAST-MODIFIED:20220720T082638Z
UID:161708-1662226200-1662233400@td-lank07.de
SUMMARY:3. Liga F | TD Lank - SG 09 Kirchhof
DESCRIPTION:TD Lank – SG 09 Kirchhof \n
URL:https://td-lank07.de/termin/3-liga-f-td-lank-sg-09-kirchhof/
LOCATION:Wittenberger Straße 12\, Meerbusch\, 40668\, Germany
CATEGORIES:Handball
END:VEVENT
END:VCALENDAR