BEGIN:VCALENDAR
VERSION:2.0
PRODID:-//TD Lank 07 - ECPv4.6.8//NONSGML v1.0//EN
CALSCALE:GREGORIAN
METHOD:PUBLISH
X-WR-CALNAME:TD Lank 07
X-ORIGINAL-URL:https://td-lank07.de
X-WR-CALDESC:Events for TD Lank 07
BEGIN:VEVENT
DTSTART;TZID=UTC+2:20180302T084500
DTEND;TZID=UTC+2:20180302T094500
DTSTAMP:20260422T074711
CREATED:20180301T101113Z
LAST-MODIFIED:20200807T083156Z
UID:5230-1519980300-1519983900@td-lank07.de
SUMMARY:Bodyworkout (Damen)
DESCRIPTION:Übungsleiterin: (Vertretung wird gesucht) \n
URL:https://td-lank07.de/termin/bodyworkout-damen/
LOCATION:Stettiner Straße 21\, 40668\, Meerbusch
GEO:51.30726;6.68844
X-APPLE-STRUCTURED-LOCATION;VALUE=URI;X-ADDRESS=Stettiner Straße 21 40668 Meerbusch;X-APPLE-RADIUS=500;X-TITLE=Stettiner Straße 21:geo:6.68844,51.30726
CATEGORIES:Laufende Vereinsangebote
ATTACH;FMTTYPE=image/jpeg:https://td-lank07.de/wp-content/uploads/2018/07/2018-07-24-Gymnastik-Kalender-Bodyworkout-e1532454561948.jpg
END:VEVENT
END:VCALENDAR