BEGIN:VCALENDAR
VERSION:2.0
PRODID:-//TD Lank 07 - ECPv4.6.8//NONSGML v1.0//EN
CALSCALE:GREGORIAN
METHOD:PUBLISH
X-WR-CALNAME:TD Lank 07
X-ORIGINAL-URL:https://td-lank07.de
X-WR-CALDESC:Events for TD Lank 07
BEGIN:VEVENT
DTSTART;TZID=UTC+1:20220821T120000
DTEND;TZID=UTC+1:20220821T140000
DTSTAMP:20260420T175551
CREATED:20220718T141407Z
LAST-MODIFIED:20220718T141407Z
UID:161508-1661083200-1661090400@td-lank07.de
SUMMARY:KK mJ D | TD Lank - ASV Süchteln II
DESCRIPTION:TD Lank – ASV Süchteln II \n
URL:https://td-lank07.de/termin/kk-mj-d-td-lank-asv-suechteln-ii/
LOCATION:Wittenberger Straße 12\, Meerbusch\, 40668\, Germany
CATEGORIES:Handball,Heimspiele
END:VEVENT
END:VCALENDAR