BEGIN:VCALENDAR
VERSION:2.0
PRODID:-//TD Lank 07 - ECPv4.6.8//NONSGML v1.0//EN
CALSCALE:GREGORIAN
METHOD:PUBLISH
X-WR-CALNAME:TD Lank 07
X-ORIGINAL-URL:https://td-lank07.de
X-WR-CALDESC:Events for TD Lank 07
BEGIN:VEVENT
DTSTART;TZID=UTC+1:20220820T173000
DTEND;TZID=UTC+1:20220820T193000
DTSTAMP:20260420T164233
CREATED:20220718T141406Z
LAST-MODIFIED:20220718T141406Z
UID:161507-1661016600-1661023800@td-lank07.de
SUMMARY:KL wJ B | TD Lank - Neusser HV
DESCRIPTION:TD Lank – Neusser HV \n
URL:https://td-lank07.de/termin/kl-wj-b-td-lank-neusser-hv/
LOCATION:Wittenberger Straße 12\, Meerbusch\, 40668\, Germany
CATEGORIES:Handball,Heimspiele
END:VEVENT
END:VCALENDAR