BEGIN:VCALENDAR
VERSION:2.0
PRODID:-//TD Lank 07 - ECPv4.6.8//NONSGML v1.0//EN
CALSCALE:GREGORIAN
METHOD:PUBLISH
X-WR-CALNAME:TD Lank 07
X-ORIGINAL-URL:https://td-lank07.de
X-WR-CALDESC:Events for TD Lank 07
BEGIN:VEVENT
DTSTART;TZID=UTC+1:20180310T123000
DTEND;TZID=UTC+1:20180310T140000
DTSTAMP:20260423T214837
CREATED:20180320T144626Z
LAST-MODIFIED:20180724T150207Z
UID:7179-1520685000-1520690400@td-lank07.de
SUMMARY:Kreisklasse Jungen D neu
DESCRIPTION:TuS Treudeutsch Lank D2J – HSG Waldniel/Niederkrüchten D1J \n
URL:https://td-lank07.de/termin/kreisklasse-jungen-d-neu/
LOCATION:Wittenberger Straße 12\, Meerbusch\, 40668\, Germany
CATEGORIES:Handball
END:VEVENT
END:VCALENDAR