BEGIN:VCALENDAR
VERSION:2.0
PRODID:-//TD Lank 07 - ECPv4.6.8//NONSGML v1.0//EN
CALSCALE:GREGORIAN
METHOD:PUBLISH
X-WR-CALNAME:TD Lank 07
X-ORIGINAL-URL:https://td-lank07.de
X-WR-CALDESC:Events for TD Lank 07
BEGIN:VEVENT
DTSTART;TZID=UTC+1:20180512T183000
DTEND;TZID=UTC+1:20180512T200000
DTSTAMP:20260424T055618
CREATED:20180320T144650Z
LAST-MODIFIED:20180724T150205Z
UID:7238-1526149800-1526155200@td-lank07.de
SUMMARY:Niederrhein Verbandsliga Männer Gruppe 1
DESCRIPTION:TuS Treudeutsch Lank 1M – TV Lobberich 1M \n
URL:https://td-lank07.de/termin/niederrhein-verbandsliga-maenner-gruppe-1-7/
LOCATION:Wittenberger Straße 12\, Meerbusch\, 40668\, Germany
CATEGORIES:Handball,Heimspiele
END:VEVENT
END:VCALENDAR