BEGIN:VCALENDAR
VERSION:2.0
PRODID:-//TD Lank 07 - ECPv4.6.8//NONSGML v1.0//EN
CALSCALE:GREGORIAN
METHOD:PUBLISH
X-WR-CALNAME:TD Lank 07
X-ORIGINAL-URL:https://td-lank07.de
X-WR-CALDESC:Events for TD Lank 07
BEGIN:VEVENT
DTSTART;TZID=UTC+1:20220903T130000
DTEND;TZID=UTC+1:20220903T150000
DTSTAMP:20260420T191541
CREATED:20220718T141407Z
LAST-MODIFIED:20220718T141407Z
UID:161509-1662210000-1662217200@td-lank07.de
SUMMARY:OL mJ B | TD Lank - Neusser HV
DESCRIPTION:TD Lank – Neusser HV \n
URL:https://td-lank07.de/termin/ol-mj-b-td-lank-neusser-hv/
LOCATION:Wittenberger Straße 12\, Meerbusch\, 40668\, Germany
CATEGORIES:Handball,Heimspiele
END:VEVENT
END:VCALENDAR