BEGIN:VCALENDAR
VERSION:2.0
PRODID:-//TD Lank 07 - ECPv4.6.8//NONSGML v1.0//EN
CALSCALE:GREGORIAN
METHOD:PUBLISH
X-WR-CALNAME:TD Lank 07
X-ORIGINAL-URL:https://td-lank07.de
X-WR-CALDESC:Events for TD Lank 07
BEGIN:VEVENT
DTSTART;TZID=UTC+1:20180429T163000
DTEND;TZID=UTC+1:20180429T180000
DTSTAMP:20260425T014619
CREATED:20180320T144647Z
LAST-MODIFIED:20180724T150205Z
UID:7230-1525019400-1525024800@td-lank07.de
SUMMARY:Regionalliga-Nordrhein Frauen 12er
DESCRIPTION:TuS Treudeutsch Lank 1F – TSV Bonn rrh.1F \n
URL:https://td-lank07.de/termin/regionalliga-nordrhein-frauen-12er-5/
LOCATION:Wittenberger Straße 12\, Meerbusch\, 40668\, Germany
CATEGORIES:Auswärtsspiele,Handball
END:VEVENT
END:VCALENDAR