BEGIN:VCALENDAR
VERSION:2.0
PRODID:-//TD Lank 07 - ECPv4.6.8//NONSGML v1.0//EN
CALSCALE:GREGORIAN
METHOD:PUBLISH
X-WR-CALNAME:TD Lank 07
X-ORIGINAL-URL:https://td-lank07.de
X-WR-CALDESC:Events for TD Lank 07
BEGIN:VEVENT
DTSTART;TZID=UTC+1:20220918T093000
DTEND;TZID=UTC+1:20220918T113000
DTSTAMP:20260419T172927
CREATED:20220718T141414Z
LAST-MODIFIED:20220718T141414Z
UID:161534-1663493400-1663500600@td-lank07.de
SUMMARY:VR mJ F | TD Lank - Adler Königshof
DESCRIPTION:TD Lank – Adler Königshof \n
URL:https://td-lank07.de/termin/vr-mj-f-td-lank-adler-koenigshof/
LOCATION:Wittenberger Straße 12\, Meerbusch\, 40668\, Germany
CATEGORIES:Handball,Heimspiele
END:VEVENT
END:VCALENDAR