BEGIN:VCALENDAR
VERSION:2.0
PRODID:-//TD Lank 07 - ECPv4.6.8//NONSGML v1.0//EN
CALSCALE:GREGORIAN
METHOD:PUBLISH
X-WR-CALNAME:TD Lank 07
X-ORIGINAL-URL:https://td-lank07.de
X-WR-CALDESC:Events for TD Lank 07
BEGIN:VEVENT
DTSTART;TZID=UTC+2:20180328T183000
DTEND;TZID=UTC+2:20180328T193000
DTSTAMP:20260422T164352
CREATED:20180305T125542Z
LAST-MODIFIED:20180724T144709Z
UID:7035-1522261800-1522265400@td-lank07.de
SUMMARY:Walking/Nordic Walking (Sommerzeit)
DESCRIPTION:Übungsleiter/-in:\nLotti Maaßen \n
URL:https://td-lank07.de/termin/walkingnordic-walking-sommerzeit/2018-03-28/
LOCATION:Nierster Straße 92\, Meerbusch\, 40668\, Germany
GEO:51.3074763;6.6938465
X-APPLE-STRUCTURED-LOCATION;VALUE=URI;X-ADDRESS=Nierster Straße 92 Meerbusch 40668 Germany;X-APPLE-RADIUS=500;X-TITLE=Nierster Straße 92:geo:6.6938465,51.3074763
CATEGORIES:Laufende Vereinsangebote
ATTACH;FMTTYPE=image/jpeg:https://td-lank07.de/wp-content/uploads/2017/12/gym.jpg
END:VEVENT
END:VCALENDAR