BEGIN:VCALENDAR
VERSION:2.0
PRODID:-//TD Lank 07 - ECPv4.6.8//NONSGML v1.0//EN
CALSCALE:GREGORIAN
METHOD:PUBLISH
X-WR-CALNAME:TD Lank 07
X-ORIGINAL-URL:https://td-lank07.de
X-WR-CALDESC:Events for TD Lank 07
BEGIN:VEVENT
DTSTART;TZID=UTC+2:20180307T183000
DTEND;TZID=UTC+2:20180307T193000
DTSTAMP:20260420T154447
CREATED:20180305T130034Z
LAST-MODIFIED:20180724T144631Z
UID:7067-1520447400-1520451000@td-lank07.de
SUMMARY:Walking/Nordic Walking (Winterzeit)
DESCRIPTION:Übungsleiter/-in:\nLotti Maaßen \n
URL:https://td-lank07.de/termin/walkingnordic-walking-winterzeit/2018-03-07/
LOCATION:Kaiserswerther Straße 52\, Meerbusch\, 40668\, Germany
GEO:51.30654;6.68303
X-APPLE-STRUCTURED-LOCATION;VALUE=URI;X-ADDRESS=Kaiserswerther Straße 52 Meerbusch 40668 Germany;X-APPLE-RADIUS=500;X-TITLE=Kaiserswerther Straße 52:geo:6.68303,51.30654
CATEGORIES:Laufende Vereinsangebote
ATTACH;FMTTYPE=image/jpeg:https://td-lank07.de/wp-content/uploads/2017/12/gym.jpg
END:VEVENT
END:VCALENDAR